BEGIN:VCALENDAR
VERSION:2.0
PRODID:-//swoogo.com//NONSGML kigkonsult.se iCalcreator 2.41.90//
CALSCALE:GREGORIAN
UID:34333161-6265-4438-b266-643465373063
BEGIN:VEVENT
UID:b344d305c21fa48cb6d6a96451d0afc0db68c29d@swoogo.com
DTSTAMP:20260421T164529Z
DESCRIPTION:YOU'RE INVITED TO ATTEND THE OFFICIAL CYBERSECURITY SUMMIT ATLA
 NTA WHICH CONNECTS C-SUITE & SENIOR EXECUTIVES RESPONSIBLE FOR PROTECTING 
 THEIR COMPANIES’ CRITICAL INFRASTRUCTURES WITH INNOVATIVE SOLUTION PROVIDE
 RS AND RENOWNED INFORMATION SECURITY EXPERTS. ADMISSION IS $250 EACH\, GIV
 ING YOU ACCESS TO ALL INTERACTIVE PANELS\, DISCUSSIONS\, CATERED BREAKFAST
 \, LUNCH & COCKTAIL RECEPTION.\n\n  
DTSTART:20260206T130000Z
DTEND:20260206T230000Z
LAST-MODIFIED:20260421T164529Z
LOCATION:Atlanta - Grand Hyatt Buckhead\, 3300 Peachtree Rd NE\, Atlanta\, 
 GA 30305\, United States
SEQUENCE:0
STATUS:CONFIRMED
SUMMARY:The Official Cybersecurity Summit Atlanta
TRANSP:OPAQUE
X-ALT-DESC;FMTTYPE=text/html:<h2><span style='font-size:16px\;'>You're invi
 ted to attend the<strong> Official Cybersecurity Summit Atlanta</strong> w
 hich connects C-Suite & Senior Executives responsible for protecting their
  companies’ critical infrastructures with innovative solution providers an
 d renowned information security experts. Admission is $250 each\, giving y
 ou access to all Interactive Panels\, Discussions\, Catered Breakfast\, Lu
 nch & Cocktail Reception.</span></h2>\n\n<center> </center>
BEGIN:VALARM
UID:65343461-6566-4032-b136-353635336364
ACTION:DISPLAY
DESCRIPTION:YOU'RE INVITED TO ATTEND THE OFFICIAL CYBERSECURITY SUMMIT ATLA
 NTA WHICH CONNECTS C-SUITE & SENIOR EXECUTIVES RESPONSIBLE FOR PROTECTING 
 THEIR COMPANIES’ CRITICAL INFRASTRUCTURES WITH INNOVATIVE SOLUTION PROVIDE
 RS AND RENOWNED INFORMATION SECURITY EXPERTS. ADMISSION IS $250 EACH\, GIV
 ING YOU ACCESS TO ALL INTERACTIVE PANELS\, DISCUSSIONS\, CATERED BREAKFAST
 \, LUNCH & COCKTAIL RECEPTION.\n\n  
TRIGGER:-PT15M
END:VALARM
END:VEVENT
END:VCALENDAR
