BEGIN:VCALENDAR
VERSION:2.0
PRODID:-//swoogo.com//NONSGML kigkonsult.se iCalcreator 2.41.90//
CALSCALE:GREGORIAN
UID:38653439-3030-4635-a437-613539353764
BEGIN:VEVENT
UID:20058969be95d27b07a741dfb861d1c26bcc5680@swoogo.com
DTSTAMP:20260424T183938Z
DESCRIPTION:YOU'RE INVITED TO ATTEND THE OFFICIAL CYBERSECURITY SUMMIT RANS
 OMWARE WHICH CONNECTS C-SUITE & SENIOR EXECUTIVES RESPONSIBLE FOR PROTECTI
 NG THEIR COMPANIES’ CRITICAL INFRASTRUCTURES WITH INNOVATIVE SOLUTION PROV
 IDERS AND RENOWNED INFORMATION SECURITY EXPERTS. ADMISSION IS $95 EACH\, G
 IVING YOU ACCESS TO ALL INTERACTIVE PANELS\, SESSIONS AND DISCUSSIONS.\n\n
   
DTSTART:20260128T160000Z
DTEND:20260128T210000Z
LAST-MODIFIED:20260424T183938Z
LOCATION:
SEQUENCE:0
STATUS:CONFIRMED
SUMMARY:The Official Cybersecurity Summit Ransomware 2026 Virtual
TRANSP:OPAQUE
X-ALT-DESC;FMTTYPE=text/html:<h2><span style='font-size:16px\;'>You're invi
 ted to attend the<strong> Official Cybersecurity Summit Ransomware</strong
 > which connects C-Suite & Senior Executives responsible for protecting th
 eir companies’ critical infrastructures with innovative solution providers
  and renowned information security experts. Admission is $95 each\, giving
  you access to all Interactive Panels\, Sessions and Discussions.</span></
 h2>\n\n<center> </center>
BEGIN:VALARM
UID:39626163-3332-4434-a136-356231363237
ACTION:DISPLAY
DESCRIPTION:YOU'RE INVITED TO ATTEND THE OFFICIAL CYBERSECURITY SUMMIT RANS
 OMWARE WHICH CONNECTS C-SUITE & SENIOR EXECUTIVES RESPONSIBLE FOR PROTECTI
 NG THEIR COMPANIES’ CRITICAL INFRASTRUCTURES WITH INNOVATIVE SOLUTION PROV
 IDERS AND RENOWNED INFORMATION SECURITY EXPERTS. ADMISSION IS $95 EACH\, G
 IVING YOU ACCESS TO ALL INTERACTIVE PANELS\, SESSIONS AND DISCUSSIONS.\n\n
   
TRIGGER:-PT15M
END:VALARM
END:VEVENT
END:VCALENDAR
