BEGIN:VCALENDAR
VERSION:2.0
PRODID:-//swoogo.com//NONSGML kigkonsult.se iCalcreator 2.41.90//
CALSCALE:GREGORIAN
UID:36383732-6265-4232-a635-323837383664
BEGIN:VEVENT
UID:08e00d09de26049db271a82623cf528ea8b92dd7@swoogo.com
DTSTAMP:20260420T061427Z
DESCRIPTION:YOU'RE INVITED TO ATTEND THE OFFICIAL CYBERSECURITY SUMMIT FINS
 EC WHICH CONNECTS C-SUITE & SENIOR EXECUTIVES RESPONSIBLE FOR PROTECTING T
 HEIR COMPANIES’ CRITICAL INFRASTRUCTURES WITH INNOVATIVE SOLUTION PROVIDER
 S AND RENOWNED INFORMATION SECURITY EXPERTS. ADMISSION IS $95 EACH\, GIVIN
 G YOU ACCESS TO ALL INTERACTIVE PANELS\, SESSIONS AND DISCUSSIONS.\n\n  
DTSTART:20260422T150000Z
DTEND:20260422T200000Z
LAST-MODIFIED:20260420T061427Z
LOCATION:
SEQUENCE:0
STATUS:CONFIRMED
SUMMARY:The Official Cybersecurity Summit FinSec 2026 Virtual
TRANSP:OPAQUE
X-ALT-DESC;FMTTYPE=text/html:<h2><span style='font-size:16px\;'>You're invi
 ted to attend the<strong> Official Cybersecurity Summit FinSec</strong> wh
 ich connects C-Suite & Senior Executives responsible for protecting their 
 companies’ critical infrastructures with innovative solution providers and
  renowned information security experts. Admission is $95 each\, giving you
  access to all Interactive Panels\, Sessions and Discussions.</span></h2>
 \n\n<center> </center>
BEGIN:VALARM
UID:39313563-3562-4237-a631-626363363339
ACTION:DISPLAY
DESCRIPTION:YOU'RE INVITED TO ATTEND THE OFFICIAL CYBERSECURITY SUMMIT FINS
 EC WHICH CONNECTS C-SUITE & SENIOR EXECUTIVES RESPONSIBLE FOR PROTECTING T
 HEIR COMPANIES’ CRITICAL INFRASTRUCTURES WITH INNOVATIVE SOLUTION PROVIDER
 S AND RENOWNED INFORMATION SECURITY EXPERTS. ADMISSION IS $95 EACH\, GIVIN
 G YOU ACCESS TO ALL INTERACTIVE PANELS\, SESSIONS AND DISCUSSIONS.\n\n  
TRIGGER:-PT15M
END:VALARM
END:VEVENT
END:VCALENDAR
